BEGIN:VCALENDAR
VERSION:2.0
PRODID:-//Andalucía Resiliente - ECPv5.6.0//NONSGML v1.0//EN
CALSCALE:GREGORIAN
METHOD:PUBLISH
X-WR-CALNAME:Andalucía Resiliente
X-ORIGINAL-URL:http://andaluciaresiliente.net
X-WR-CALDESC:Eventos para Andalucía Resiliente
BEGIN:VTIMEZONE
TZID:UTC
BEGIN:STANDARD
TZOFFSETFROM:+0000
TZOFFSETTO:+0000
TZNAME:UTC
DTSTART:20210101T000000
END:STANDARD
END:VTIMEZONE
BEGIN:VEVENT
DTSTART;TZID=UTC:20210426T180000
DTEND;TZID=UTC:20210426T200000
DTSTAMP:20260421T143853
CREATED:20210419T180834Z
LAST-MODIFIED:20210615T095409Z
UID:2565-1619460000-1619467200@andaluciaresiliente.net
SUMMARY:Transición energética y decrecimiento / Tertulia virtual
DESCRIPTION:La energía es quizá el pilar más importante del actual orden social\, sin abundante energía barata no es posible sostener esta sociedad capitalista\, industrial y globalizada. \nMientras que la gran mayoría social somos conscientes de que necesitamos realizar una rápida transición que abandone los recursos fósiles\, pocas somos conscientes de que nos adentramos velozmente hacia una crisis energética que acelerará y dificultará el pilotaje de esta transición. \nUn rápido decrecimiento energético global supondrá un gran desafío para el sostenimiento de unas condiciones de vida dignas para las mayorías sociales\, pero también una oportunidad para transitar hacia otros órdenes más justos y resilientes que eviten los peores escenarios climáticos\, si somos capaces de priorizar la supervivencia y el bien común de todos los seres. \nNo vamos a poder elegir si decrecer o no\, pero sí podemos elegir cómo hacerlo. \nEn esta tertulia indagaremos sobre las distintas estrategias que desde la ciudadanía organizada y las políticas públicas podemos poner en marcha para colapsar mejor\, con la participación de: \n\nAlba del Campo\, asesora de Transición Energética del Ayuntamiento de Cádiz\nÁlvaro Campos\, integrante de Alianza Energía y Territorio (ALIENTE)\nAntonio Turiel\, científico del CSIC y divulgador del cenit del petróleo y el decrecimiento\nRoger Reixach\, Consejo Rector de Som Energia
URL:http://andaluciaresiliente.net/evento/transicion-energetica-y-decrecimiento
CATEGORIES:ACTIVIDAD
ATTACH;FMTTYPE=image/png:http://andaluciaresiliente.net/wp-content/uploads/2021/04/4.png
END:VEVENT
END:VCALENDAR