BEGIN:VCALENDAR
VERSION:2.0
PRODID:-//Andalucía Resiliente - ECPv5.6.0//NONSGML v1.0//EN
CALSCALE:GREGORIAN
METHOD:PUBLISH
X-WR-CALNAME:Andalucía Resiliente
X-ORIGINAL-URL:http://andaluciaresiliente.net
X-WR-CALDESC:Eventos para Andalucía Resiliente
BEGIN:VTIMEZONE
TZID:UTC
BEGIN:STANDARD
TZOFFSETFROM:+0000
TZOFFSETTO:+0000
TZNAME:UTC
DTSTART:20210101T000000
END:STANDARD
END:VTIMEZONE
BEGIN:VEVENT
DTSTART;TZID=UTC:20210420T170000
DTEND;TZID=UTC:20210420T190000
DTSTAMP:20260421T141736
CREATED:20210413T140115Z
LAST-MODIFIED:20210528T073034Z
UID:2546-1618938000-1618945200@andaluciaresiliente.net
SUMMARY:Relatos transformadores para el cambio cultural / Tertulia virtual
DESCRIPTION:Reflexión colectiva sobre las narrativas como herramientas de poder contra las cosmovisiones dominantes. Para que se produzca la transformación social que necesitamos\, tenemos que narrar el mundo que queremos. ¿Cómo lo hacemos…? \nCon la participación de: \n\nAna Jiménez\, Ecotono y Ecologistas en Acción\nVirginia Soler (Birch)\, cantautora y activista ecologista\nRamón del Castillo\, filósofo y crítico cultural\nValiana Aguilar Hernández\, activista ambiental comunitaria
URL:http://andaluciaresiliente.net/evento/relatos-transformadores-para-el-cambio-cultural
CATEGORIES:ACTIVIDAD
ATTACH;FMTTYPE=image/png:http://andaluciaresiliente.net/wp-content/uploads/2021/04/3.-Relatos-transformadores-para-el-cambio-cultural.png
END:VEVENT
END:VCALENDAR