BEGIN:VCALENDAR
VERSION:2.0
PRODID:-//Andalucía Resiliente - ECPv5.6.0//NONSGML v1.0//EN
CALSCALE:GREGORIAN
METHOD:PUBLISH
X-WR-CALNAME:Andalucía Resiliente
X-ORIGINAL-URL:http://andaluciaresiliente.net
X-WR-CALDESC:Eventos para Andalucía Resiliente
BEGIN:VTIMEZONE
TZID:Europe/Madrid
BEGIN:DAYLIGHT
TZOFFSETFROM:+0100
TZOFFSETTO:+0200
TZNAME:CEST
DTSTART:20210328T010000
END:DAYLIGHT
BEGIN:STANDARD
TZOFFSETFROM:+0200
TZOFFSETTO:+0100
TZNAME:CET
DTSTART:20211031T010000
END:STANDARD
END:VTIMEZONE
BEGIN:VEVENT
DTSTART;TZID=Europe/Madrid:20210614T180000
DTEND;TZID=Europe/Madrid:20210614T200000
DTSTAMP:20260421T150425
CREATED:20210608T155328Z
LAST-MODIFIED:20210822T213720Z
UID:2883-1623693600-1623700800@andaluciaresiliente.net
SUMMARY:Narrativas de la calle: conectando discursos frente al colapso desde la diversidad / Presentación audiovisual y tertulia virtual
DESCRIPTION:¿Qué piensan las personas en la calle sobre conceptos como el colapso\, la justicia global\, la resiliencia o el buen vivir? Visualizaremos entrevistas grabadas a personas de diversos perfiles de la sociedad civil que nos ayudarán a conocer qué hay en el imaginario colectivo\, reflexionando conjuntamente sobre el alcance de esos conceptos. \nCon la participación de: \n\nAntonio Moreno\, miembro del colectivo de educación para la participación CRAC\nFernando Cembranos\, psicólogo e integrante de Ecologistas en Acción\nLaura L. Ruiz\, periodista freelance y activista antiespecista\nMarcos Rivero\, cocoordinador de la campaña Andalucía Justa y Resiliente\n\nModera: Paloma Zamora\, facilitadora experta y psicóloga
URL:http://andaluciaresiliente.net/evento/narrativas-calle
CATEGORIES:ACTIVIDAD
ATTACH;FMTTYPE=image/png:http://andaluciaresiliente.net/wp-content/uploads/2021/06/14.Narrativas-calle.png
END:VEVENT
END:VCALENDAR