BEGIN:VCALENDAR
VERSION:2.0
PRODID:-//Andalucía Resiliente - ECPv5.6.0//NONSGML v1.0//EN
CALSCALE:GREGORIAN
METHOD:PUBLISH
X-WR-CALNAME:Andalucía Resiliente
X-ORIGINAL-URL:http://andaluciaresiliente.net
X-WR-CALDESC:Eventos para Andalucía Resiliente
BEGIN:VTIMEZONE
TZID:Europe/Madrid
BEGIN:DAYLIGHT
TZOFFSETFROM:+0100
TZOFFSETTO:+0200
TZNAME:CEST
DTSTART:20210328T010000
END:DAYLIGHT
BEGIN:STANDARD
TZOFFSETFROM:+0200
TZOFFSETTO:+0100
TZNAME:CET
DTSTART:20211031T010000
END:STANDARD
END:VTIMEZONE
BEGIN:VEVENT
DTSTART;TZID=Europe/Madrid:20210518T173000
DTEND;TZID=Europe/Madrid:20210518T193000
DTSTAMP:20260421T160948
CREATED:20210512T124809Z
LAST-MODIFIED:20210603T110438Z
UID:2732-1621359000-1621366200@andaluciaresiliente.net
SUMMARY:El mundo rural andaluz ante el colapso de la civilización industrial / Tertulia virtual
DESCRIPTION:En el mundo rural es donde se encuentran los recursos naturales que sostienen el metabolismo de nuestras sociedades\, lo que\, a priori\, nos puede hacer pensar que sus territorios podrían ser más resilientes ante el actual proceso de colapso que empezamos a vivir. Sin embargo\, su relación subordinada con las ciudades y la economía industrial\, le lleva a una situación de enorme vulnerabilidad que\, a su vez\, pone en riesgo la salud y la seguridad alimentaria del conjunto de las poblaciones y los territorios\, rurales y urbanos. Por ello\, es primordial que los agentes rurales trabajen con el enfoque de resiliencia local\, ya que si seguimos dejando destruir los ecosistemas que sostendrán nuestras vidas en un escenario de descenso energético brusco\, tales como el suelo\, el agua\, los bosques\, la biodiversidad… y no nos preparamos para organizarnos con menos energía y materiales\, el impacto del colapso podría ser dramático. \nPero\, ¿se es consciente en el entorno rural del actual proceso de colapso? ¿Qué estrategias necesitamos para mejorar la resiliencia de los entornos rurales ante este colapso? ¿Hasta qué punto es probable que se dé una vuelta masiva de la gente\, que ahora vive en las ciudades\, hacia los entornos rurales? ¿Cómo podría impactar este éxodo urbano en el medio rural? En esta tertulia abordaremos estas y otras preguntas sobre los efectos que puede tener el colapso de la civilización industrial en el mundo rural y cómo se está viviendo desde diversos ámbitos\, proyectos y agentes del mundo rural andaluz. \nLa tertulia contó con la participación de: \n\nAdrián Almazán\, integrante de Ecologistas en Acción y profesor de filosofía en la Universidad de Deusto.\nAntonio Aguilera\, integrante de la Fundación Savia.\nBegoña Zorita\, integrante de la ecoaldea El Calabacino (Huelva).\nDelia McGrath\, integrante del Sindicato Andaluz de Trabajadores/as.
URL:http://andaluciaresiliente.net/evento/mundo-rural-andaluz-ante-el-colapso
CATEGORIES:ACTIVIDAD
ATTACH;FMTTYPE=image/png:http://andaluciaresiliente.net/wp-content/uploads/2021/05/10-2.png
END:VEVENT
END:VCALENDAR