BEGIN:VCALENDAR
VERSION:2.0
PRODID:-//Andalucía Resiliente - ECPv5.6.0//NONSGML v1.0//EN
CALSCALE:GREGORIAN
METHOD:PUBLISH
X-WR-CALNAME:Andalucía Resiliente
X-ORIGINAL-URL:http://andaluciaresiliente.net
X-WR-CALDESC:Eventos para Andalucía Resiliente
BEGIN:VTIMEZONE
TZID:Europe/Madrid
BEGIN:DAYLIGHT
TZOFFSETFROM:+0100
TZOFFSETTO:+0200
TZNAME:CEST
DTSTART:20210328T010000
END:DAYLIGHT
BEGIN:STANDARD
TZOFFSETFROM:+0200
TZOFFSETTO:+0100
TZNAME:CET
DTSTART:20211031T010000
END:STANDARD
END:VTIMEZONE
BEGIN:VEVENT
DTSTART;VALUE=DATE:20210605
DTEND;VALUE=DATE:20210606
DTSTAMP:20260421T133745
CREATED:20210601T131348Z
LAST-MODIFIED:20210603T134055Z
UID:2816-1622851200-1622937599@andaluciaresiliente.net
SUMMARY:Llamamientos y convocatorias de acciones y eventos para celebrar el Día Mundial del Medio Ambiente y del Decrecimiento
DESCRIPTION:La campaña Andalucía Justa y Resiliente nos sumamos a los llamamientos que hacen\, por un lado\, Rebelión por el Clima Andalucía y\, por otro\, el grupo de trabajo de “activismo” del movimiento internacional de decrecimiento para organizar y participar en las acciones y eventos programados en Andalucía este próximo sábado 5 de junio\, en el que celebramos conjuntamente el Día Mundial del Medio Ambiente y el Decrecimiento. \nA continuación os informamos de las acciones y eventos programados en cada una de las provincias andaluzas y las ciudades de Ceuta y Melilla (pincha sobre los carteles para verlos mejor y si vuestra convocatoria no está incluida\, por favor\, envíanosla a info@andaluciaresiliente.net para que podamos publicarla). \nEste sábado 5 de junio\, ¡Salimos a las calles! ¡Por una Andalucía rebelde por la justicia ecosocial!\n \nAlmería\n\nCádiz\n\nCórdoba\n\nGranada\n\nHuelva\n\nMálaga\n\nMelilla\n\nSevilla\n\nSi quieres enriquecer la celebración de este día con más acciones y eventos\, desde la campaña Andalucía Justa y Resiliente te animamos a organizar nuevas acciones y eventos en tu localidad. En este enlace puedes encontrar toda una serie de ideas y recomendaciones muy útiles para ello. Este sábado 5 de junio\, ¡Salimos a las calles! ¡Por una Andalucía rebelde por la justicia ecosocial!
URL:http://andaluciaresiliente.net/evento/llamamiento-y-convocatorias-5j
CATEGORIES:ACCIÓN,ACTIVIDAD
ATTACH;FMTTYPE=image/png:http://andaluciaresiliente.net/wp-content/uploads/2021/06/logoRxC-Andalucia.png
END:VEVENT
END:VCALENDAR