BEGIN:VCALENDAR
VERSION:2.0
PRODID:-//Andalucía Resiliente - ECPv5.6.0//NONSGML v1.0//EN
CALSCALE:GREGORIAN
METHOD:PUBLISH
X-WR-CALNAME:Andalucía Resiliente
X-ORIGINAL-URL:http://andaluciaresiliente.net
X-WR-CALDESC:Eventos para Andalucía Resiliente
BEGIN:VTIMEZONE
TZID:UTC
BEGIN:STANDARD
TZOFFSETFROM:+0000
TZOFFSETTO:+0000
TZNAME:UTC
DTSTART:20210101T000000
END:STANDARD
END:VTIMEZONE
BEGIN:VEVENT
DTSTART;TZID=UTC:20210412T170000
DTEND;TZID=UTC:20210412T190000
DTSTAMP:20260421T161136
CREATED:20210402T183506Z
LAST-MODIFIED:20241021T102641Z
UID:2415-1618246800-1618254000@andaluciaresiliente.net
SUMMARY:Liberalismo verde\, Green New Deal y Decrecimiento. ¿Elegimos? / Tertulia virtual (webinar)
DESCRIPTION:Estamos en un momento vital en el que el sistema capitalista industrial tiene evidentes grietas que impiden garantizar los derechos universales y respetar los límites del planeta. Este sistema está dejando atrás a muchas personas\, lugares y seres. ¡Necesitamos de un cambio profundo! Pero\, ¿cómo llevar a cabo una transición ecosocial amable que ponga el cuidado de las vidas diversas en el centro? ¿Puede este sistema simplemente adaptarse o debemos transitar hacia nuevos sistemas? En esta tertulia haremos un recorrido por los diferentes paradigmas que están tratando de dar respuesta a estas cuestiones. \nLa tertulia virtual contó con la participación de: \n\nAdriana Guzmán Arroyo\, feminista comunitaria antipatriarcal.\nAlfons Pérez\, Observatorio de la Deuda en la Globalización.\nBlanca Ruibal\, Amigos de la Tierra.\nRiccardo Mastini\, Research & Degrowth.
URL:http://andaluciaresiliente.net/evento/liberalismo-verde-green-new-deal-y-decrecimiento
CATEGORIES:ACTIVIDAD
ATTACH;FMTTYPE=image/png:http://andaluciaresiliente.net/wp-content/uploads/2021/04/Liberalismo-Verde-Green-New-Deal-y-Decrecimiento-¿Elegimos-.png
END:VEVENT
END:VCALENDAR