BEGIN:VCALENDAR
VERSION:2.0
PRODID:-//Andalucía Resiliente - ECPv5.6.0//NONSGML v1.0//EN
CALSCALE:GREGORIAN
METHOD:PUBLISH
X-WR-CALNAME:Andalucía Resiliente
X-ORIGINAL-URL:http://andaluciaresiliente.net
X-WR-CALDESC:Eventos para Andalucía Resiliente
BEGIN:VTIMEZONE
TZID:Europe/Madrid
BEGIN:DAYLIGHT
TZOFFSETFROM:+0100
TZOFFSETTO:+0200
TZNAME:CEST
DTSTART:20210328T010000
END:DAYLIGHT
BEGIN:STANDARD
TZOFFSETFROM:+0200
TZOFFSETTO:+0100
TZNAME:CET
DTSTART:20211031T010000
END:STANDARD
END:VTIMEZONE
BEGIN:VEVENT
DTSTART;TZID=Europe/Madrid:20210525T180000
DTEND;TZID=Europe/Madrid:20210525T200000
DTSTAMP:20260421T144029
CREATED:20210519T161533Z
LAST-MODIFIED:20211224T093123Z
UID:2749-1621965600-1621972800@andaluciaresiliente.net
SUMMARY:Empleos\, trabajos y subsistencias. Enfrentando el colapso del orden capitalista industrial / Tertulia virtual
DESCRIPTION:Abordamos los retos que plantea el contexto de crisis global en relación al ámbito laboral y al de la subsistencia\, así como las experiencias y prácticas de resiliencia de ocupaciones no incluidas en los circuitos de empleos convencionales. \nCon la participación de: \n\nCristina Herrera Vargas\, fundadora del santuario de animales Jimmi\nMalick Gueye Ly\, portavoz del Sindicato de Manteros de Madrid\nMarijosé Barrera Márquez\, puta feminista y portavoz del Colectivo de Prostitutas de Sevilla\nJosé Luis «Pope» Aguilar Rabaneda\, artista de calle y cantautor\n\nModera: Félix Talego\, profesor de Antropología Social en la Universidad de Sevilla. \nObjetivos específicos de la actividad: \n\nRomper el mito del empleo convencional que excluye a tantas personas.\nVisibilizar otros tipos de trabajos que no suelen tener representación.\nHablar sobre los retos que plantea la crisis global para el trabajo y\, al mismo tiempo\, sobre la práctica de resiliencia que aporta la experiencia de trabajadoras de actividades precarias y excluidas de los circuitos de empleo tradicionales.\nPlantear un concepto del trabajo frente al colapso y de cómo queremos/podremos/deberemos trabajar en el futuro.\n\nLos perfiles que el grupo motor organizador de esta actividad (GM3) ha seleccionado no tienen que ver con su inclusión o exclusión en unas u otras ideologías\, ni con nuestra afección o desafección con sus identidades\, sino que han sido planteados por corresponder a ocupaciones que son ajenas a estructuras formales dentro del ámbito laboral. \nQueremos indagar en cómo sobreviven las economías sumergidas\, las que no obtienen cobertura en caso de enfermedad\, ni subsidio en caso de desempleo\, ni siquiera un ERTE cuando el sistema cierra por pandemia de manera transitoria. Nos preguntamos cómo narran estos perfiles la supervivencia\, cuando las estructuras institucionales no ofrecen ningún amparo. \nNos interesa entender en qué redes se sostienen estas personas y cómo cubren sus necesidades vitales\, teniendo en cuenta que son actividades no reconocidas\, no regularizadas. Y\, si tenemos la certeza de un colapso civilizatorio\, puede que no algunas de nosotras\, pero sí quienes nos releven\, tendrán que enfrentar panoramas de inseguridad laboral como los que las personas invitadas viven en este\, aún\, capitalismo industrial.
URL:http://andaluciaresiliente.net/evento/empleos-trabajos-subsistencias
CATEGORIES:ACTIVIDAD
ATTACH;FMTTYPE=image/png:http://andaluciaresiliente.net/wp-content/uploads/2021/05/11.Empleos-trabajos-y-subsistencias.png
END:VEVENT
END:VCALENDAR