BEGIN:VCALENDAR
VERSION:2.0
PRODID:-//Andalucía Resiliente - ECPv5.6.0//NONSGML v1.0//EN
CALSCALE:GREGORIAN
METHOD:PUBLISH
X-WR-CALNAME:Andalucía Resiliente
X-ORIGINAL-URL:http://andaluciaresiliente.net
X-WR-CALDESC:Eventos para Andalucía Resiliente
BEGIN:VTIMEZONE
TZID:UTC
BEGIN:STANDARD
TZOFFSETFROM:+0000
TZOFFSETTO:+0000
TZNAME:UTC
DTSTART:20210101T000000
END:STANDARD
END:VTIMEZONE
BEGIN:VEVENT
DTSTART;TZID=UTC:20210517T180000
DTEND;TZID=UTC:20210517T200000
DTSTAMP:20260421T143905
CREATED:20210512T114905Z
LAST-MODIFIED:20210822T212647Z
UID:2729-1621274400-1621281600@andaluciaresiliente.net
SUMMARY:Estrategias y prácticas agroecológicas y de renaturalización. Construyendo resiliencia en el medio rural y urbano / Tertulia virtual
DESCRIPTION:La crisis energética a la que nos enfrentamos en nuestras sociedades\, así como la realidad del cambio climático\, nos pone delante el reto de construir un sistema agroalimentario que\, teniendo en cuenta los límites biofísicos de los territorios\, garantice la seguridad alimentaria de la población. El movimiento agroecológico en todas sus dimensiones (cultural\, social\, económica\, política y tecnológica) viene años trabajando en la construcción de sistemas agroalimentarios más justos y localizados. Esta transformación de los sistemas alimentarios quiere garantizar una alimentación más sana y sostenible para todas las personas y el planeta\, así como dignificar el trabajo del campesinado y de las productoras y productores locales. Sin embargo\, y a pesar de que la producción y el consumo agroecológico han demostrado tener un menor impacto en el planeta y sobre el cambio climático que otras prácticas agroganaderas\, se ha hablado muy poco sobre el escenario de colapso y qué propuestas trae la agroecología en nuestro territorio ante la escasez de energías fósiles y otros recursos como el agua e incluso la falta de suelo fértil. \nEn esta tertulia hablamos de estrategias y de prácticas\, pero también de dudas y de realidades\, poniendo en diálogo la perspectiva colapsista con las prácticas agroecológicas. Es muy probable que este diálogo nos lleve a plantearnos nuevas preguntas\, invitándonos a seguir trabajando conjuntamente en estrategias y prácticas para la resiliencia andaluza. \nLa tertulia contó con la participación de: \n\nCristian Moyano\, filósofo\, doctor en ciencias ambientales y vicepresidente de la Red de Transición en España.\nItziar Aguirre\, experta en agroecología y profesora en la ETSIA de la Universidad de Sevilla.\nLeticia Toledo\, agricultora agreoecológica y ecofeminista.\nMarlen Sánchez\, directora académica del Instituto Agroecológico Latinoamericano (IALA) en Nicaragua e integrante de Vía Campesina.
URL:http://andaluciaresiliente.net/evento/agroecologia-y-renaturalizacion
CATEGORIES:ACTIVIDAD
ATTACH;FMTTYPE=image/png:http://andaluciaresiliente.net/wp-content/uploads/2021/05/10-3.png
END:VEVENT
END:VCALENDAR